BEGIN:VCALENDAR
VERSION:2.0
PRODID:-//Helping Seniors - ECPv6.15.20//NONSGML v1.0//EN
CALSCALE:GREGORIAN
METHOD:PUBLISH
X-ORIGINAL-URL:https://helpingseniorsofbrevard.info
X-WR-CALDESC:Events for Helping Seniors
REFRESH-INTERVAL;VALUE=DURATION:PT1H
X-Robots-Tag:noindex
X-PUBLISHED-TTL:PT1H
BEGIN:VTIMEZONE
TZID:America/New_York
BEGIN:DAYLIGHT
TZOFFSETFROM:-0500
TZOFFSETTO:-0400
TZNAME:EDT
DTSTART:20250309T070000
END:DAYLIGHT
BEGIN:STANDARD
TZOFFSETFROM:-0400
TZOFFSETTO:-0500
TZNAME:EST
DTSTART:20251102T060000
END:STANDARD
BEGIN:DAYLIGHT
TZOFFSETFROM:-0500
TZOFFSETTO:-0400
TZNAME:EDT
DTSTART:20260308T070000
END:DAYLIGHT
BEGIN:STANDARD
TZOFFSETFROM:-0400
TZOFFSETTO:-0500
TZNAME:EST
DTSTART:20261101T060000
END:STANDARD
BEGIN:DAYLIGHT
TZOFFSETFROM:-0500
TZOFFSETTO:-0400
TZNAME:EDT
DTSTART:20270314T070000
END:DAYLIGHT
BEGIN:STANDARD
TZOFFSETFROM:-0400
TZOFFSETTO:-0500
TZNAME:EST
DTSTART:20271107T060000
END:STANDARD
END:VTIMEZONE
BEGIN:VEVENT
DTSTART;TZID=America/New_York:20260108T110000
DTEND;TZID=America/New_York:20260108T123000
DTSTAMP:20260425T153228
CREATED:20251227T174542Z
LAST-MODIFIED:20251229T213429Z
UID:54743-1767870000-1767875400@helpingseniorsofbrevard.info
SUMMARY:Veterans Resource Roundtable
DESCRIPTION:Veterans Resource Roundtable\nConnecting Veterans with Local Programs\, Services\, and Support \nThursday January 8th\, 2026\nThe Resource Center (Helping Seniors of Brevard)\n1344 S. Apollo Blvd Ste 2C\, Melbourne\, FL 32901 \nPlease RSVP to Carlos Cuesta\nat 321-340-3828 ext. 101\nor email at carloscuesta@synergyhomecare.com \nFeaturing Discussion with: \nDon Pearsall – Brevard Veterans Memorial Center\nTed Suzor – Space Coast Honor Flight\nGreg Bowman – National Veterans Homeless Support\nDan Holmes – Enlisted Kidney Foundation\nRyan Trandell – Military Affairs Council\nCarlos Cuesta – SYNERGY HomeCare \n\n  \nRoundtable Description \nJoin us for an engaging and informative Veterans Resource Roundtable\, bringing together veterans\, service members\, families\, and community partners for an open discussion on the programs\, benefits\, and support services available in our area. This roundtable is designed to connect veterans with the resources they deserve—ranging from healthcare and mental wellness services to housing assistance\, employment opportunities\, education benefits\, financial guidance\, and community-based support programs. \nParticipants will hear from local organizations\, share their experiences\, ask questions\, and build connections in a welcoming\, collaborative environment. Whether you’re seeking guidance\, looking to learn about new programs\, or hoping to connect with others who share similar experiences\, this roundtable provides a valuable space to explore the tools and support systems available to you. \nCoffee and donuts provided – All Veterans Welcome. \n  \n\n  \n 
URL:https://helpingseniorsofbrevard.info/event/veteransresource010826/
LOCATION:Senior Resource Center of Brevard\, 1344 S Apollo Blvd Ste 2C\, Melbourne\, FL\, 32901\, United States
CATEGORIES:Senior Education Series Event,Senior Tech Talk
ATTACH;FMTTYPE=image/jpeg:https://helpingseniorsofbrevard.info/wp-content/uploads/2025/12/2026-01-08-Veterans-Table-EV.jpg
ORGANIZER;CN="Helping Seniors":MAILTO:Info@HelpingSeniorsofBrevard.org
END:VEVENT
BEGIN:VEVENT
DTSTART;TZID=America/New_York:20260109T130000
DTEND;TZID=America/New_York:20260109T143000
DTSTAMP:20260425T153228
CREATED:20251215T032250Z
LAST-MODIFIED:20251215T032250Z
UID:54559-1767963600-1767969000@helpingseniorsofbrevard.info
SUMMARY:Senior Tech Talk
DESCRIPTION:  \nRSVP Senior Tech Talk \n  \nSenior Tech Talk : Helping Seniors Feel Confident with Technology \nIn today’s fast-paced digitally driven world\, it can be easy to feel left behind – especially for seniors trying to keep up with the newest smartphones\, apps\, and online services. As more aspects of daily life shift to a digital format\, the ability to navigate technology safely and efficiently is no longer optional – it is essential. \nTo help support seniors in building confidence with everyday technology\, we have developed our new community outreach program: Senior Tech Talk. The program is designed to provide practical\, easy-to-follow guidance on everyday technology as well as offer the opportunity for individual questions and assistance. \nSenior Tech Talk is hosted by Helping Seniors Executive Director Kerry Fink and the classes are led by local community advocate and “elder millennial”\, Brianna Prentice. As a longtime supporter of senior-focused causes\, Brianna has always been passionate about making technology more accessible and less intimidating for everyone. Her experience of having grown up during the transition from analog to digital will bring a unique insight to the program. \nThe program covers a wide variety of topics\, including texting\, emailing\, photo sharing\, video calls\, social media\, and much more!  We are so excited to provide this opportunity for our community and look forward to seeing you at this FREE learning event! \n  \nRSVP Senior Tech Talk \n  \n\n  \n \nBrianna “Bri” Prentice\nSenior Tech Talk Coordinator & Speaker \nBrianna Prentice is a proud mom of two boys\, a licensed property and auto insurance agent\, and a lifelong advocate for community connection. As the program coordinator and lead speaker of Senior Tech Talks—launched in partnership with Helping Seniors of Brevard — Bri combines her professional experience and personal passion to help older adults feel more confident navigating today’s technology. \nWhether it’s learning to video call with family\, manage smartphone settings\, or stay safe online\, Bri brings patience\, compassion\, and a sense of fun to every session. Helping seniors feel empowered with technology has always been close to her heart. \nIn addition to her work with Senior Tech Talks\, Bri is the social media coordinator for and volunteers with the Brevard Pixie Pin Ups\, a charitable organization that raises funds and awareness for causes throughout the Brevard community. \nThrough every role she plays—whether it’s mom\, mentor\, or community builder—Bri is driven by a deep belief that everyone deserves to feel seen\, supported\, and connected. \n 
URL:https://helpingseniorsofbrevard.info/event/senior-tech-talk-jan-2026/
LOCATION:Senior Resource Center of Brevard\, 1344 S Apollo Blvd Ste 2C\, Melbourne\, FL\, 32901\, United States
CATEGORIES:Senior Education Series Event,Senior Tech Talk
ATTACH;FMTTYPE=image/jpeg:https://helpingseniorsofbrevard.info/wp-content/uploads/2025/12/2026-01-09-Senior-Tech-Talk-EV.jpg
ORGANIZER;CN="Helping Seniors":MAILTO:Info@HelpingSeniorsofBrevard.org
END:VEVENT
END:VCALENDAR