BEGIN:VCALENDAR
VERSION:2.0
PRODID:-//Helping Seniors - ECPv6.15.20//NONSGML v1.0//EN
CALSCALE:GREGORIAN
METHOD:PUBLISH
X-WR-CALNAME:Helping Seniors
X-ORIGINAL-URL:https://helpingseniorsofbrevard.info
X-WR-CALDESC:Events for Helping Seniors
REFRESH-INTERVAL;VALUE=DURATION:PT1H
X-Robots-Tag:noindex
X-PUBLISHED-TTL:PT1H
BEGIN:VTIMEZONE
TZID:America/New_York
BEGIN:DAYLIGHT
TZOFFSETFROM:-0500
TZOFFSETTO:-0400
TZNAME:EDT
DTSTART:20180311T070000
END:DAYLIGHT
BEGIN:STANDARD
TZOFFSETFROM:-0400
TZOFFSETTO:-0500
TZNAME:EST
DTSTART:20181104T060000
END:STANDARD
BEGIN:DAYLIGHT
TZOFFSETFROM:-0500
TZOFFSETTO:-0400
TZNAME:EDT
DTSTART:20190310T070000
END:DAYLIGHT
BEGIN:STANDARD
TZOFFSETFROM:-0400
TZOFFSETTO:-0500
TZNAME:EST
DTSTART:20191103T060000
END:STANDARD
BEGIN:DAYLIGHT
TZOFFSETFROM:-0500
TZOFFSETTO:-0400
TZNAME:EDT
DTSTART:20200308T070000
END:DAYLIGHT
BEGIN:STANDARD
TZOFFSETFROM:-0400
TZOFFSETTO:-0500
TZNAME:EST
DTSTART:20201101T060000
END:STANDARD
BEGIN:DAYLIGHT
TZOFFSETFROM:-0500
TZOFFSETTO:-0400
TZNAME:EDT
DTSTART:20210314T070000
END:DAYLIGHT
BEGIN:STANDARD
TZOFFSETFROM:-0400
TZOFFSETTO:-0500
TZNAME:EST
DTSTART:20211107T060000
END:STANDARD
END:VTIMEZONE
BEGIN:VEVENT
DTSTART;TZID=America/New_York:20200212T100000
DTEND;TZID=America/New_York:20200212T110000
DTSTAMP:20260419T104510
CREATED:20200120T195345Z
LAST-MODIFIED:20200120T195611Z
UID:13539-1581501600-1581505200@helpingseniorsofbrevard.info
SUMMARY:Eyes\, Ears & Speech
DESCRIPTION:CLICK TO REGISTER\n\n\n\n\n\nEyes\, Ears & Speech\nWednesday – February 12\, 2020\n55 minute Program begins 10am\nSnacks & Refreshments\nCall 321-473-7770 to RSVP\nNautilus Ballroom – Zon Beachside\n1894 South Patrick Drive Indian Harbour Beach\nRSVP required – for this FREE event \nIn just 55 minutes learn about Eyes\, Ears & Speech with the Eye Doctors/Surgeons\, Board Certified Audiologists & Speech Therapy Experts who are in for this educational series. \nEye Doctors/Surgeons from The Eye Institute & Laser Clinic – With over 40 Years of Surgical Eye Care experience\, The Eye Clinic & Laser Institute has served the Space Coast with comprehensive\, quality eye care services since 1980. In 1997 the Eye Clinic & Laser Institute was the first to introduce Lasik Vision Correction surgery in Brevard County. \nBoard Certified Audiologists from Palm Bay Hearing Aid Center – This family owned and operated practice has served for more than a decade\, providing a high tech experience in a laid back environment. They hold a five star Google rating with top reviews from some of our patients and peers. \nSpeech Therapy Expert from Ageility Physical Therapy – Ageility is senior focused outpatient therapy solution\, delivering excellent clinical services while maintaining a hospitality approach and Linda Kishtok\, Senior Regional Rehab Director\, talks about the connection between balance/cognition with good sight & hearing. \nA FREE Community Seminar & Continental Breakfast \nRSVP required to attend this FREE event \n3 ways RSVP for this FREE event:\nDrop by Zon or Senior Resource Center of Brevard offices\nCall Helping Seniors at 321-473-7770\nOnline: Eventbrite \n\n\nCLICK HERE FOR PDF FLYER FOR THE EVENT\n\n\nFREE Community Seminar & Continental Breakfast –\nRSVP required to attend this FREE event \n3 ways to RSVP for this FREE event:\nDrop by Zon Beachside or the Senior Resource Center of Brevard Offices\nCall the Senior Resource Center of Brevard at 321-384-8499\nOnline: Eventbrite \n\nIn just 55 minutes\, you’ll discover some of the various resources and services available to assist Seniors\, and those who care for them\, in our area. Meet some great professionals who are part of the Senior Resource Center of Brevard – including the Law Offices of Amy B Van Fossen\, PA\, Harmony Senior Living Advisors\, Brevard Relocate Realty Group\, Forget Me Not Senior Care Advocates\, Ageility Physical Therapy\, Zon Beachside Assisted Living & Memory Care\, Trilogy Home Health\, and the Helping Seniors non-profit organization.
URL:https://helpingseniorsofbrevard.info/event/healthy-living-2/
LOCATION:Senior Resource Center of Brevard\, 1344 S Apollo Blvd Ste 2C\, Melbourne\, FL\, 32901\, United States
CATEGORIES:SRCB Community Events
ATTACH;FMTTYPE=image/jpeg:https://helpingseniorsofbrevard.info/wp-content/uploads/2020/01/500x260-FB-SRCB-Facebook-Cover-2020-1.jpg
ORGANIZER;CN="Helping Seniors":MAILTO:Info@HelpingSeniorsofBrevard.org
END:VEVENT
BEGIN:VEVENT
DTSTART;TZID=America/New_York:20200123T100000
DTEND;TZID=America/New_York:20200123T110000
DTSTAMP:20260419T104510
CREATED:20200115T214008Z
LAST-MODIFIED:20200117T002220Z
UID:13510-1579773600-1579777200@helpingseniorsofbrevard.info
SUMMARY:Healthy Living for the Young at Heart
DESCRIPTION:CLICK TO REGISTER\n\n\n\nHealthy Living for the Young at Heart\n\n\nThursday – January 23\, 2019\n55 minute Program begins 10am\nSnacks & Refreshments\nCall 321-473-7770 to RSVP\nNautilus Ballroom – Zon Beachside\n1894 South Patrick Drive Indian Harbour Beach\nRSVP required – for this FREE event \nIn just 55 minutes discover a whole new world of Healthy Living in 2020 at this “East meets West” free talk. \nBased on more than 3\,500 years of Chinese and Eastern health and wellness concepts and influenced by modern Western research and advances\, Sherri Garafolo\, Administrator of Forget-Me-Not Senior Care Advocates. \nMs. Garafolo\, as a Senior Care Advocate\, and an experienced professional in geriatric care management\, leads this session on creative and effective ideas for enjoying Healthy Living throughout 2020. \nIn addition to her presentation\, we’ll hear: \nPractical tips from Diane Zizzo\, representative of dōTERRA Essential Oils: \nDiscover how essential oils can transform the way you manage your health. These natural chemical compounds are life changing. \nExpert insight from Dr. Kevin Kilday\, of Holistic Health Center: \nHolistic health care is a system of comprehensive or total patient care that considers the physical\, emotional\, social\, economic\, and spiritual needs of a person; including his or her response to illness; and the effect of the illness on the ability to meet self-care needs. \n“East meets the West” – learn and choose the best for your Health Living. Great tips on everything from holistic health to aromatherapy and more. \nA FREE Community Seminar & Continental Breakfast \nRSVP required to attend this FREE event \n3 ways RSVP for this FREE event:\nDrop by Zon or Senior Resource Center of Brevard offices\nCall Helping Seniors at 321-473-7770\nOnline: Eventbrite \n\n\nCLICK HERE FOR PDF FLYER FOR THE EVENT\n\n\nFREE Community Seminar & Continental Breakfast –\nRSVP required to attend this FREE event \n3 ways to RSVP for this FREE event:\nDrop by Zon Beachside or the Senior Resource Center of Brevard Offices\nCall the Senior Resource Center of Brevard at 321-384-8499\nOnline: Eventbrite \n\nIn just 55 minutes\, you’ll discover some of the various resources and services available to assist Seniors\, and those who care for them\, in our area. Meet some great professionals who are part of the Senior Resource Center of Brevard – including the Law Offices of Amy B Van Fossen\, PA\, Harmony Senior Living Advisors\, Brevard Relocate Realty Group\, Forget Me Not Senior Care Advocates\, Ageility Physical Therapy\, Zon Beachside Assisted Living & Memory Care\, Trilogy Home Health\, and the Helping Seniors non-profit organization.
URL:https://helpingseniorsofbrevard.info/event/healthy-living/
LOCATION:Senior Resource Center of Brevard\, 1344 S Apollo Blvd Ste 2C\, Melbourne\, FL\, 32901\, United States
CATEGORIES:SRCB Community Events
ATTACH;FMTTYPE=image/jpeg:https://helpingseniorsofbrevard.info/wp-content/uploads/2020/01/500x260-FB-SRCB-Facebook-Cover-2020.jpg
ORGANIZER;CN="Helping Seniors":MAILTO:Info@HelpingSeniorsofBrevard.org
END:VEVENT
BEGIN:VEVENT
DTSTART;TZID=America/New_York:20200108T100000
DTEND;TZID=America/New_York:20200108T110000
DTSTAMP:20260419T104510
CREATED:20191228T181752Z
LAST-MODIFIED:20200104T145254Z
UID:13372-1578477600-1578481200@helpingseniorsofbrevard.info
SUMMARY:New Year\, New You and New Home Environment
DESCRIPTION:CLICK TO REGISTER FOR “NEW YEAR\, NEW YOU”\n\n\n\nIt’s 2020 – and time to start the New Year in focus! \nIt’s a New Year\, so let’s concentrate on tips that will help you succeed with your New Year resolutions about taking better care of yourself and improving your Home Environment – with emphasis on your health\, your safety and your comfort! In just 55 minutes discover the resources and services available to make this the best year ever. \n\n\nAbout the Event \nIn just 55 minutes discover how make your plans for a great 2020 a reality! \n“When older people lose the ability to do things it is not typically because they have aged. In many cases it is simply because they have become inactive.” – the National Institute of Health \nPractical tips from Physical Therapy expert Dr. Mark Brimer of Ageility Physical Therapy Solutions. \n“Many older adults want to ”age in place” – stay in their own homes as they get older – a few changes could make your home easier and safer to live in and help you continue to live independently.” – National Institute on Aging \nInside information on make your home safe from Compassionate Downsizing 4 Seniors expert Carolyn Neale. \nCLICK HERE FOR PDF FLYER FOR THE EVENT\n\n\nFREE Community Seminar & Continental Breakfast –\nRSVP required to attend this FREE event – 10am Wednesday- November 8th 2020 \n3 ways to RSVP for this FREE event:\nDrop by Zon Beachside or the Senior Resource Center of Brevard Offices\nCall the Senior Resource Center of Brevard at 321-384-8499\nOnline: HelpingSeniorsofBrevard.info/event/new-year/ \n\nIn just 55 minutes\, you’ll discover some of the various resources and services available to assist Seniors\, and those who care for them\, in our area. Meet some of the great professionals who are part of the Senior Resource Center of Brevard – including the Law Offices of Amy B Van Fossen\, PA\, Harmony Senior Living Advisors\, Brevard Relocate Realty Group\, Forget Me Not Senior Care Advocates\, Trilogy Home Health\, and the Helping Seniors non-profit organization.
URL:https://helpingseniorsofbrevard.info/event/new-year/
LOCATION:Senior Resource Center of Brevard\, 1344 S Apollo Blvd Ste 2C\, Melbourne\, FL\, 32901\, United States
CATEGORIES:SRCB Community Events
ATTACH;FMTTYPE=image/jpeg:https://helpingseniorsofbrevard.info/wp-content/uploads/2019/12/500x260-Event-Cover-Twitter.jpg
ORGANIZER;CN="Helping Seniors":MAILTO:Info@HelpingSeniorsofBrevard.org
END:VEVENT
BEGIN:VEVENT
DTSTART;TZID=America/New_York:20190926T100000
DTEND;TZID=America/New_York:20190926T230000
DTSTAMP:20260419T104510
CREATED:20190902T232408Z
LAST-MODIFIED:20190902T234933Z
UID:12953-1569492000-1569538800@helpingseniorsofbrevard.info
SUMMARY:Find it at Senior Resource Center of Brevard!
DESCRIPTION:Join us for this enjoyable and fast-paced overview of the brand-new “Senior Resource Center of Brevard” located in the “Lighthouse” Ballroom at Zon Beachside.\n\n\n\n\n \n\n\nIn just 55 minutes\, you’ll discover the various resources and services available to assist Seniors\, and those who care for them\, in our area. Meet some of the great professionals who are part of the Senior Resource Center of Brevard. \n\n\n \n\n\nGreg Kennedy\, Executive Director of Zon Beachside\, moderates the conversation which features a panel of participants composed of the excellent organizations at the “Senior Resource Center” – including the Law Offices of Amy B Van Fossen\, PA\, Harmony Senior Living Advisors\, Brevard Relocate Realty Group\, Forget Me Not Senior Care Advocates\, Trilogy Home Health\, and the Helping Seniors non-profit organization.\n\n\n \n\n\nFree admission. Free parking. Free refreshments. \n\n\n \n\n\nPlease RSVP to ensure your space! \n\n\n \n\n\n(And\, if you RSVP on or before September 19th – you are invited to stay for light lunch prepared by the Executive Chef at Zon Beachside Assisted Living & Memory Care!)\n\n\n \n\n\nTo RSVP\, you may call the Senior Resource Center of Brevard direct at (321) 384-8499\, drop by Zon Beachside or Helping Seniors offices\, or Register Online.\n\n\n \n\n\nCome join us – we are committed to assisting you with excellence!
URL:https://helpingseniorsofbrevard.info/event/find-it-at-senior-resource-center-of-brevard/
LOCATION:Senior Resource Center of Brevard\, 1344 S Apollo Blvd Ste 2C\, Melbourne\, FL\, 32901\, United States
CATEGORIES:SRCB Community Events
ATTACH;FMTTYPE=image/jpeg:https://helpingseniorsofbrevard.info/wp-content/uploads/2019/09/500x260-FB-SRCB-Facebook-Cover.jpg
ORGANIZER;CN="Helping Seniors":MAILTO:Info@HelpingSeniorsofBrevard.org
END:VEVENT
END:VCALENDAR