BEGIN:VCALENDAR
VERSION:2.0
PRODID:-//Helping Seniors - ECPv6.15.20//NONSGML v1.0//EN
CALSCALE:GREGORIAN
METHOD:PUBLISH
X-WR-CALNAME:Helping Seniors
X-ORIGINAL-URL:https://helpingseniorsofbrevard.info
X-WR-CALDESC:Events for Helping Seniors
REFRESH-INTERVAL;VALUE=DURATION:PT1H
X-Robots-Tag:noindex
X-PUBLISHED-TTL:PT1H
BEGIN:VTIMEZONE
TZID:America/New_York
BEGIN:DAYLIGHT
TZOFFSETFROM:-0500
TZOFFSETTO:-0400
TZNAME:EDT
DTSTART:20250309T070000
END:DAYLIGHT
BEGIN:STANDARD
TZOFFSETFROM:-0400
TZOFFSETTO:-0500
TZNAME:EST
DTSTART:20251102T060000
END:STANDARD
BEGIN:DAYLIGHT
TZOFFSETFROM:-0500
TZOFFSETTO:-0400
TZNAME:EDT
DTSTART:20260308T070000
END:DAYLIGHT
BEGIN:STANDARD
TZOFFSETFROM:-0400
TZOFFSETTO:-0500
TZNAME:EST
DTSTART:20261101T060000
END:STANDARD
BEGIN:DAYLIGHT
TZOFFSETFROM:-0500
TZOFFSETTO:-0400
TZNAME:EDT
DTSTART:20270314T070000
END:DAYLIGHT
BEGIN:STANDARD
TZOFFSETFROM:-0400
TZOFFSETTO:-0500
TZNAME:EST
DTSTART:20271107T060000
END:STANDARD
END:VTIMEZONE
BEGIN:VEVENT
DTSTART;TZID=America/New_York:20260212T110000
DTEND;TZID=America/New_York:20260212T123000
DTSTAMP:20260425T141037
CREATED:20260119T212358Z
LAST-MODIFIED:20260208T204006Z
UID:56289-1770894000-1770899400@helpingseniorsofbrevard.info
SUMMARY:Nourish Your Spirit
DESCRIPTION:  \n  \nNourish Your Spirit \n11am – Thursday\nFebruary 12th 2026 \npresented by Senior Helpers of Melbourne \nJoin us for an inspiring and FUN-FILLED event with Chef Jillian\, of Chefs for Seniors Melbourne\, as we present some thoughtful\, delicious meal ideas to assist you in your daily lives!  Food\, Fun and Great Friends! \nRSVP today for this important Wellness event at (321) 844-8650 or by email to Referrals1240@SeniorHelpers.com \n  \n\n  \nHelping Seniors\nSenior Resource Center of Brevard\n1344 S Apollo Dr – Ste 2C\nMelbourne FL 32901 \nCLICK HERE for DIRECTIONS\nTO SENIOR RESOURCE CENTER \n 
URL:https://helpingseniorsofbrevard.info/event/nourish-your-spirit-feb2026/
LOCATION:Senior Resource Center of Brevard\, 1344 S Apollo Blvd Ste 2C\, Melbourne\, FL\, 32901\, United States
CATEGORIES:Senior Education Series Event,Senior Information & Education,SRCB Community Events
ATTACH;FMTTYPE=image/jpeg:https://helpingseniorsofbrevard.info/wp-content/uploads/2026/01/2025-12-12-Nourish-Your-Spirit-EV.jpg
ORGANIZER;CN="Helping Seniors":MAILTO:Info@HelpingSeniorsofBrevard.org
END:VEVENT
END:VCALENDAR