BEGIN:VCALENDAR
VERSION:2.0
PRODID:-//Helping Seniors - ECPv6.15.20//NONSGML v1.0//EN
CALSCALE:GREGORIAN
METHOD:PUBLISH
X-WR-CALNAME:Helping Seniors
X-ORIGINAL-URL:https://helpingseniorsofbrevard.info
X-WR-CALDESC:Events for Helping Seniors
REFRESH-INTERVAL;VALUE=DURATION:PT1H
X-Robots-Tag:noindex
X-PUBLISHED-TTL:PT1H
BEGIN:VTIMEZONE
TZID:America/New_York
BEGIN:DAYLIGHT
TZOFFSETFROM:-0500
TZOFFSETTO:-0400
TZNAME:EDT
DTSTART:20250309T070000
END:DAYLIGHT
BEGIN:STANDARD
TZOFFSETFROM:-0400
TZOFFSETTO:-0500
TZNAME:EST
DTSTART:20251102T060000
END:STANDARD
BEGIN:DAYLIGHT
TZOFFSETFROM:-0500
TZOFFSETTO:-0400
TZNAME:EDT
DTSTART:20260308T070000
END:DAYLIGHT
BEGIN:STANDARD
TZOFFSETFROM:-0400
TZOFFSETTO:-0500
TZNAME:EST
DTSTART:20261101T060000
END:STANDARD
BEGIN:DAYLIGHT
TZOFFSETFROM:-0500
TZOFFSETTO:-0400
TZNAME:EDT
DTSTART:20270314T070000
END:DAYLIGHT
BEGIN:STANDARD
TZOFFSETFROM:-0400
TZOFFSETTO:-0500
TZNAME:EST
DTSTART:20271107T060000
END:STANDARD
END:VTIMEZONE
BEGIN:VEVENT
DTSTART;TZID=America/New_York:20260326T100000
DTEND;TZID=America/New_York:20260326T110000
DTSTAMP:20260425T112137
CREATED:20260310T225913Z
LAST-MODIFIED:20260402T185310Z
UID:56572-1774519200-1774522800@helpingseniorsofbrevard.info
SUMMARY:Knowledge College
DESCRIPTION:  \n\n  \n\n\nOverview\n\n\n\n\n\nYour Aging Plan: Getting Your Ducks in a Row 2026\n\n\n\nKnowledge College for Aging \n10am-11am – Thursday – March 26th 2026 \nLet’s face it. Any level of roof repair can send your stress levels through the … well\, roof. Let’s visit Craig Lansing\, of Janney Roofing\, as he talks about what to know about Roofs – and how NOT to get ripped off in repairs/replacements. He’ll also share thoughts on home improvement investments that pay back – from Roofs\, to Windows\, to Doors and more. \nHelping Seniors Executive Director Kerry Fink hosts the 2026 Knowledge College for Aging series with a look at the steps for “Getting Your Ducks in a Row” and the 7 Key Pillars of a Good Aging Plan. \nHelping Seniors Knowledge College for Aging!The Aging Plan Series presented by Helping Seniors \nA key component of your Aging Plan—what we call “Getting Your Ducks in a Row”— is knowing what key components should be in it and how to bring it all together. \nHere in Florida\, we all know the importance of having a Hurricane Plan—not because we want a storm\, but because we want to be prepared. An Aging Plan follows the same principle. It doesn’t mean expecting problems—it means being ready for whatever comes your way. \nThrough our Knowledge College for Aging series\, you’ll learn how to build your own Aging Plan—your personal roadmap for “Getting Your Ducks in a Row.” \nBe proactive. Be prepared. Join us in creating a smart Aging Plan\, tailored to your needs. \n📞 RSVP today at (321) 473-7770Presented by Helping Seniors of Brevard \nSenior Resource Center of Brevard📍 1344 S Apollo Dr\, Ste 2C\, Melbourne\, FL 32901 \n\n\n\n\n\n\n			\n				\n				\n				\n				\n				  \n\n \nLocation:\n \nSenior Resource Center1344 S Apollo Blvd - 2nd FloorMelbourne FL 32901321-773-7770 \nClick Here for Directional & Parking Information
URL:https://helpingseniorsofbrevard.info/event/knowledge-college-for-aging-032626/
LOCATION:Senior Resource Center of Brevard\, 1344 S Apollo Blvd Ste 2C\, Melbourne\, FL\, 32901\, United States
CATEGORIES:Knowledge College For Aging,Senior Education Series Event,Senior Information & Education,SRCB Community Events
ATTACH;FMTTYPE=image/jpeg:https://helpingseniorsofbrevard.info/wp-content/uploads/2026/02/2026-03-26-KCA-Craig-Lansing-EV.jpg
ORGANIZER;CN="Helping Seniors":MAILTO:Info@HelpingSeniorsofBrevard.org
END:VEVENT
BEGIN:VEVENT
DTSTART;TZID=America/New_York:20260326T110000
DTEND;TZID=America/New_York:20260326T120000
DTSTAMP:20260425T112137
CREATED:20260311T151821Z
LAST-MODIFIED:20260315T164737Z
UID:56583-1774522800-1774526400@helpingseniorsofbrevard.info
SUMMARY:Wellness Series
DESCRIPTION:  \n\n  \n\n\n\n\nHolistic Approach to Health\n\n\n\nMarch 2025 – Holistic Approach to Health \nDr. Kevin Kilday\, PhD\, D.PSc\, CBHC President\, Dean\, Professor of the Faith College of Natural Health\, an online college that offers offer faith-based professional programs of study in the field of natural health\, shares on exploration of the principles and practices of holistic health\, focusing on treating the whole person—mind\, body\, and spirit. \nKerry Fink\, Helping Seniors Executive Director\, hosts this free workshop featuring information that helps you on the most important pillar of your Aging Plan … Health and Wellness. \n\n\n\n\n\n\n\nHelping Seniors Wellness Series! \nThe Community Education Series presented by Helping Seniors and Omni HealthcareLet’s learn together—and stay healthy! \nJoin us for good information\, good people and snacks and door prizes.RSVP today for this important Wellness Series event at (321) 473-7770. \n\n\n\n\n\n\n\n \n\n\n\n\n\n			\n				\n				\n				\n				\n				  \n\n \nLocation:\n \nSenior Resource Center1344 S Apollo Blvd - 2nd FloorMelbourne FL 32901321-773-7770 \nClick Here for Directional & Parking Information
URL:https://helpingseniorsofbrevard.info/event/wellness-series-032626/
LOCATION:Senior Resource Center of Brevard\, 1344 S Apollo Blvd Ste 2C\, Melbourne\, FL\, 32901\, United States
CATEGORIES:Helping Seniors Wellness Series,Senior Education Series Event,Senior Information & Education,SRCB Community Events
ATTACH;FMTTYPE=image/jpeg:https://helpingseniorsofbrevard.info/wp-content/uploads/2026/03/2026-03-26-HSB-Wellness-EV.jpg
ORGANIZER;CN="Helping Seniors":MAILTO:Info@HelpingSeniorsofBrevard.org
END:VEVENT
END:VCALENDAR